BEGIN:VCALENDAR
VERSION:2.0
PRODID:-//Bishop&#039;s Hull Parish Council//Meeting Calendar//EN
CALSCALE:GREGORIAN
METHOD:PUBLISH
BEGIN:VEVENT
UID:71280-20261112@bishopshullparishcouncil.gov.uk
DTSTAMP:20260419T204000Z
DTSTART;VALUE=DATE:20261112
DTEND;VALUE=DATE:20261113
SUMMARY:Council meeting &#8211\\; 12th November 2026
DESCRIPTION:Full Council Meeting\nView details: https://bishopshullparishcouncil.gov.uk/meetings/council-meeting-12th-november-2026/
URL:https://bishopshullparishcouncil.gov.uk/meetings/council-meeting-12th-november-2026/
END:VEVENT
END:VCALENDAR
