BEGIN:VCALENDAR
VERSION:2.0
PRODID:-//Bishop&#039;s Hull Parish Council//Meeting Calendar//EN
CALSCALE:GREGORIAN
METHOD:PUBLISH
BEGIN:VEVENT
UID:71279-20261001@bishopshullparishcouncil.gov.uk
DTSTAMP:20260419T185451Z
DTSTART;VALUE=DATE:20261001
DTEND;VALUE=DATE:20261002
SUMMARY:Council meeting &#8211\\; 1st October 2026
DESCRIPTION:Full Council Meeting\nView details: https://bishopshullparishcouncil.gov.uk/meetings/council-meeting-1st-october-2026/
URL:https://bishopshullparishcouncil.gov.uk/meetings/council-meeting-1st-october-2026/
END:VEVENT
END:VCALENDAR
