BEGIN:VCALENDAR
VERSION:2.0
PRODID:-//Bishop&#039;s Hull Parish Council//Meeting Calendar//EN
CALSCALE:GREGORIAN
METHOD:PUBLISH
BEGIN:VEVENT
UID:71277-20260903@bishopshullparishcouncil.gov.uk
DTSTAMP:20260419T171933Z
DTSTART;VALUE=DATE:20260903
DTEND;VALUE=DATE:20260904
SUMMARY:Council meeting &#8211\\; 3rd September 2026
DESCRIPTION:Full Council Meeting\nView details: https://bishopshullparishcouncil.gov.uk/meetings/council-meeting-3rd-september-2026/
URL:https://bishopshullparishcouncil.gov.uk/meetings/council-meeting-3rd-september-2026/
END:VEVENT
END:VCALENDAR
