BEGIN:VCALENDAR
VERSION:2.0
PRODID:-//Bishop&#039;s Hull Parish Council//Meeting Calendar//EN
CALSCALE:GREGORIAN
METHOD:PUBLISH
BEGIN:VEVENT
UID:71276-20260702@bishopshullparishcouncil.gov.uk
DTSTAMP:20260419T152228Z
DTSTART;VALUE=DATE:20260702
DTEND;VALUE=DATE:20260703
SUMMARY:Council meeting &#8211\\; 2nd July 2026
DESCRIPTION:Full Council Meeting\nView details: https://bishopshullparishcouncil.gov.uk/meetings/council-meeting-2nd-july-2026/
URL:https://bishopshullparishcouncil.gov.uk/meetings/council-meeting-2nd-july-2026/
END:VEVENT
END:VCALENDAR
