BEGIN:VCALENDAR
VERSION:2.0
PRODID:-//Bishop&#039;s Hull Parish Council//Meeting Calendar//EN
CALSCALE:GREGORIAN
METHOD:PUBLISH
BEGIN:VEVENT
UID:70960-20250403@bishopshullparishcouncil.gov.uk
DTSTAMP:20260424T080920Z
DTSTART;VALUE=DATE:20250403
DTEND;VALUE=DATE:20250404
SUMMARY:Annual Parish Meeting &#8211\\; 3rd April 2025
DESCRIPTION:Annual Meeting\nView details: https://bishopshullparishcouncil.gov.uk/meetings/annual-parish-meeting-3rd-april-2025/
URL:https://bishopshullparishcouncil.gov.uk/meetings/annual-parish-meeting-3rd-april-2025/
END:VEVENT
END:VCALENDAR
