BEGIN:VCALENDAR
VERSION:2.0
PRODID:-//Bishop&#039;s Hull Parish Council//Meeting Calendar//EN
CALSCALE:GREGORIAN
METHOD:PUBLISH
BEGIN:VEVENT
UID:70695-20220407@bishopshullparishcouncil.gov.uk
DTSTAMP:20260424T082110Z
DTSTART;VALUE=DATE:20220407
DTEND;VALUE=DATE:20220408
SUMMARY:Annual Council Meeting &#8211\\; 7th April 2022
DESCRIPTION:Annual Meeting\nView details: https://bishopshullparishcouncil.gov.uk/meetings/annual-council-meeting-7th-april-2022/
URL:https://bishopshullparishcouncil.gov.uk/meetings/annual-council-meeting-7th-april-2022/
END:VEVENT
END:VCALENDAR
