BEGIN:VCALENDAR
VERSION:2.0
PRODID:-//Bishop&#039;s Hull Parish Council//Meeting Calendar//EN
CALSCALE:GREGORIAN
METHOD:PUBLISH
BEGIN:VEVENT
UID:70647-20240118@bishopshullparishcouncil.gov.uk
DTSTAMP:20260423T085916Z
DTSTART;VALUE=DATE:20240118
DTEND;VALUE=DATE:20240119
SUMMARY:Council Meeting &#8211\\; 18th January 2024
DESCRIPTION:Full Council Meeting\nView details: https://bishopshullparishcouncil.gov.uk/meetings/council-meeting-18th-january-2024/
URL:https://bishopshullparishcouncil.gov.uk/meetings/council-meeting-18th-january-2024/
END:VEVENT
END:VCALENDAR
